BEGIN:VCALENDAR
VERSION:2.0
PRODID:-//Plone.org//NONSGML plone.app.event//EN
X-WR-TIMEZONE:Europe/Berlin
BEGIN:VEVENT
SUMMARY:Pressemitteilungen
DTSTART;TZID=Europe/Berlin:20180815T121500
DTEND;TZID=Europe/Berlin:20180815T134500
DTSTAMP:20260424T062741Z
UID:c8e4502c379249d4bf8256fb4b15ade5@www.uni-marburg.de
ATTENDEE;CN="Christina Mühlenkamp, Pressereferentin, stellv. Pressesprech
 erin, Stabsstelle Hochschulkommunikation";ROLE=REQ-PARTICIPANT:Christina M
 ühlenkamp, Pressereferentin, stellv. Pressesprecherin, Stabsstelle Hochsc
 hulkommunikation
CREATED:20180611T072227Z
DESCRIPTION:https://www.uni-marburg.de/de/aktuelles/events/termine-3-quart
 al-2018/pressemitteilungen\nVeranstaltung der Veranstaltungsreihe "Uni int
 ern - Fachwissen informativ und kompakt" für alle Mitarbeiterinnen und Mi
 tarbeiter
LAST-MODIFIED:20180611T072735Z
LOCATION:B|03\; Sitzungssaal 003\; Biegenstr. 12
URL:https://www.uni-marburg.de/de/aktuelles/events/termine-3-quartal-2018/
 pressemitteilungen
END:VEVENT
BEGIN:VTIMEZONE
TZID:Europe/Berlin
X-LIC-LOCATION:Europe/Berlin
BEGIN:DAYLIGHT
DTSTART:20180325T030000
TZNAME:CEST
TZOFFSETFROM:+0100
TZOFFSETTO:+0200
END:DAYLIGHT
END:VTIMEZONE
END:VCALENDAR
