BEGIN:VCALENDAR
VERSION:2.0
PRODID:-//Plone.org//NONSGML plone.app.event//EN
X-WR-TIMEZONE:Europe/Berlin
BEGIN:VEVENT
SUMMARY:Ist gegen Schmerz ein Kraut gewachsen?
DTSTART;TZID=Europe/Berlin:20180806T191500
DTSTAMP:20260424T050405Z
UID:e78343f72b9940eaa02fd82f5685eeb7@www.uni-marburg.de
ATTENDEE;CN="Prof. Dr. Michael Keusgen, Philipps-Universität Marburg, Ins
 titut für Pharmazeutische Chemie";ROLE=REQ-PARTICIPANT:Prof. Dr. Michael 
 Keusgen, Philipps-Universität Marburg, Institut für Pharmazeutische Chem
 ie
CREATED:20180706T130040Z
DESCRIPTION:https://www.uni-marburg.de/de/aktuelles/events/termine-3-quart
 al-2018/schmerz-kraut\nUnibund-Vortrag
LAST-MODIFIED:20180706T130817Z
LOCATION:Hotel-Restaurant Stadt Cassel in 34576 Homberg (Efze)\, Wallstra
 ße 3
URL:https://www.uni-marburg.de/de/aktuelles/events/termine-3-quartal-2018/
 schmerz-kraut
END:VEVENT
BEGIN:VTIMEZONE
TZID:Europe/Berlin
X-LIC-LOCATION:Europe/Berlin
BEGIN:DAYLIGHT
DTSTART:20180325T030000
TZNAME:CEST
TZOFFSETFROM:+0100
TZOFFSETTO:+0200
END:DAYLIGHT
END:VTIMEZONE
END:VCALENDAR
