BEGIN:VCALENDAR
VERSION:2.0
PRODID:-//Plone.org//NONSGML plone.app.event//EN
X-WR-TIMEZONE:Europe/Berlin
BEGIN:VEVENT
SUMMARY:Fotografie und Gesellschaft
DTSTART;TZID=Europe/Berlin:20180717T130000
DTEND;TZID=Europe/Berlin:20180721T140000
DTSTAMP:20260423T074018Z
UID:cda4f3d719a441b988ca078fcc139737@www.uni-marburg.de
CREATED:20180320T073754Z
DESCRIPTION:https://www.uni-marburg.de/de/aktuelles/events/termine-3-quart
 al-2018/studientage2018\nStudientage für Fotografie 2018: Internationales
  interdisziplinäres Forschungskolloquium für Promovierende und Post-Docs
LAST-MODIFIED:20180320T074630Z
LOCATION:Tagungsraum des Deutschen Dokumentationszentrum für Kunstgeschic
 hte – Bildarchiv Foto Marburg (DDK)\, Kunstgebäude\, Biegenstraße 11\,
  35037 Marburg
URL:https://www.uni-marburg.de/de/aktuelles/events/termine-3-quartal-2018/
 studientage2018
END:VEVENT
BEGIN:VTIMEZONE
TZID:Europe/Berlin
X-LIC-LOCATION:Europe/Berlin
BEGIN:DAYLIGHT
DTSTART:20180325T030000
TZNAME:CEST
TZOFFSETFROM:+0100
TZOFFSETTO:+0200
END:DAYLIGHT
END:VTIMEZONE
END:VCALENDAR
