BEGIN:VCALENDAR
VERSION:2.0
PRODID:-//Plone.org//NONSGML plone.app.event//EN
X-WR-TIMEZONE:Europe/Berlin
BEGIN:VEVENT
SUMMARY:Tag des offenen Denkmals 2018
DTSTART;VALUE=DATE:20180909
DTEND;VALUE=DATE:20180910
DTSTAMP:20260423T171505Z
UID:eb96ca84ca534c58892dde06bb8446b4@www.uni-marburg.de
CREATED:20180907T093246Z
DESCRIPTION:https://www.uni-marburg.de/de/aktuelles/events/termine-3-quart
 al-2018/tag-des-offenen-denkmals-2018-1\nDrei Baudenkmäler der Philipps-U
 niversität öffnen die Türen für die Öffentlichkeit
LAST-MODIFIED:20180907T093631Z
LOCATION:Alte Universitätsbibliothek\, Gerling-Sternwarte und Alte Univer
 sität
URL:https://www.uni-marburg.de/de/aktuelles/events/termine-3-quartal-2018/
 tag-des-offenen-denkmals-2018-1
END:VEVENT
END:VCALENDAR
