BEGIN:VCALENDAR
VERSION:2.0
PRODID:-//Plone.org//NONSGML plone.app.event//EN
X-WR-TIMEZONE:Europe/Berlin
BEGIN:VEVENT
SUMMARY:Terpene Biosynthesis as Inspiration for Supramolecular Catalysis
DTSTART;TZID=Europe/Berlin:20180718T111500
DTEND;TZID=Europe/Berlin:20180718T140000
DTSTAMP:20260423T160427Z
UID:a3492dd2502d46c79df25c5447005e39@www.uni-marburg.de
ATTENDEE;CN="Prof. Dr. Konrad Tiefenbacher, Universität Basel und Prof. D
 r. Reinhard W. Hoffmann, Universität Marburg";ROLE=REQ-PARTICIPANT:Prof. 
 Dr. Konrad Tiefenbacher, Universität Basel und Prof. Dr. Reinhard W. Hoff
 mann, Universität Marburg
CREATED:20180706T120833Z
DESCRIPTION:https://www.uni-marburg.de/de/aktuelles/events/termine-3-quart
 al-2018/terpene-biosynthesis\nKolloquium für Organische Chemie und Chemis
 che Biologie anlässlich des 85. Geburtstages von Prof. Dr. Reinhard W. Ho
 ffmann
LAST-MODIFIED:20180706T120925Z
LOCATION:Fachbereich Chemie\, Seminarraum 1. OG Süd E173
URL:https://www.uni-marburg.de/de/aktuelles/events/termine-3-quartal-2018/
 terpene-biosynthesis
END:VEVENT
BEGIN:VTIMEZONE
TZID:Europe/Berlin
X-LIC-LOCATION:Europe/Berlin
BEGIN:DAYLIGHT
DTSTART:20180325T030000
TZNAME:CEST
TZOFFSETFROM:+0100
TZOFFSETTO:+0200
END:DAYLIGHT
END:VTIMEZONE
END:VCALENDAR
