BEGIN:VCALENDAR
VERSION:2.0
PRODID:-//Plone.org//NONSGML plone.app.event//EN
X-WR-TIMEZONE:Europe/Berlin
BEGIN:VEVENT
SUMMARY:Völkerwanderung
DTSTART;TZID=Europe/Berlin:20180730T191500
DTSTAMP:20260424T062855Z
UID:3575aeb452f546a48b4035bb86c0dd83@www.uni-marburg.de
ATTENDEE;CN="PD Dr. Johannes M. Becker, Philipps-Universität Marburg Zent
 rum für Konfliktforschung";ROLE=REQ-PARTICIPANT:PD Dr. Johannes M. Becker
 , Philipps-Universität Marburg Zentrum für Konfliktforschung
CREATED:20180706T130040Z
DESCRIPTION:https://www.uni-marburg.de/de/aktuelles/events/termine-3-quart
 al-2018/voelkerwanderung\nUnibund-Vortrag: „Völkerwanderung“\, „Flu
 chtwelle“ und: „Das Boot ist voll“. Anlässe und tiefere Ursachen de
 r aktuellen Migrations- und Fluchtbewegung
LAST-MODIFIED:20180706T130851Z
LOCATION:Hotel-Restaurant Stadt Cassel in 34576 Homberg (Efze)\, Wallstra
 ße 3
URL:https://www.uni-marburg.de/de/aktuelles/events/termine-3-quartal-2018/
 voelkerwanderung
END:VEVENT
BEGIN:VTIMEZONE
TZID:Europe/Berlin
X-LIC-LOCATION:Europe/Berlin
BEGIN:DAYLIGHT
DTSTART:20180325T030000
TZNAME:CEST
TZOFFSETFROM:+0100
TZOFFSETTO:+0200
END:DAYLIGHT
END:VTIMEZONE
END:VCALENDAR
