BEGIN:VCALENDAR
VERSION:2.0
PRODID:-//Plone.org//NONSGML plone.app.event//EN
X-WR-TIMEZONE:Europe/Berlin
BEGIN:VEVENT
SUMMARY:Allmende neu gedacht: Human and naturalistic commons im Transforma
 tionsprozess
DTSTART;TZID=Europe/Berlin:20180626T180000
DTEND;TZID=Europe/Berlin:20180626T200000
DTSTAMP:20260424T062855Z
UID:c63c7d5b2137493db30092f57644cec9@www.uni-marburg.de
ATTENDEE;CN="Johannes Euler (Essen)";ROLE=REQ-PARTICIPANT:Johannes Euler (
 Essen)
CREATED:20180418T114246Z
DESCRIPTION:https://www.uni-marburg.de/de/aktuelles/events/termine-3-quart
 al-2018/vortrag_allmende\nVortragsreihe "Nachhaltigkeit und Gesellschaftsf
 ormen aus kritisch geographischer Sicht"
LAST-MODIFIED:20180419T125952Z
LOCATION:Geographie\, Kleiner Hörsaal\, Deutschhausstraße 10
URL:https://www.uni-marburg.de/de/aktuelles/events/termine-3-quartal-2018/
 vortrag_allmende
END:VEVENT
BEGIN:VTIMEZONE
TZID:Europe/Berlin
X-LIC-LOCATION:Europe/Berlin
BEGIN:DAYLIGHT
DTSTART:20180325T030000
TZNAME:CEST
TZOFFSETFROM:+0100
TZOFFSETTO:+0200
END:DAYLIGHT
END:VTIMEZONE
END:VCALENDAR
