BEGIN:VCALENDAR
VERSION:2.0
PRODID:-//Plone.org//NONSGML plone.app.event//EN
X-WR-TIMEZONE:Europe/Berlin
BEGIN:VEVENT
SUMMARY:„Wo die freien Frauen wohnen“: Die Mosuo in Yunnan\, Südostch
 ina. Filmvorführung und Vertiefung mit den Filmemacherinnen
DTSTART;TZID=Europe/Berlin:20180619T180000
DTEND;TZID=Europe/Berlin:20180619T200000
DTSTAMP:20260423T204117Z
UID:2e880df6fe4948c08d5e8407c1897b6b@www.uni-marburg.de
ATTENDEE;CN="Dagmar Margotsdotter (Hamburg) ";ROLE=REQ-PARTICIPANT:Dagmar 
 Margotsdotter (Hamburg) 
ATTENDEE;CN="Uscha Madeisky (Frankfurt)";ROLE=REQ-PARTICIPANT:Uscha Madeis
 ky (Frankfurt)
CREATED:20180418T114246Z
DESCRIPTION:https://www.uni-marburg.de/de/aktuelles/events/termine-3-quart
 al-2018/vortrag_freie_frauen\nVortragsreihe "Nachhaltigkeit und Gesellscha
 ftsformen aus kritisch geographischer Sicht"
LAST-MODIFIED:20180419T125632Z
LOCATION:Geographie\, Kleiner Hörsaal\, Deutschhausstraße 10
URL:https://www.uni-marburg.de/de/aktuelles/events/termine-3-quartal-2018/
 vortrag_freie_frauen
END:VEVENT
BEGIN:VTIMEZONE
TZID:Europe/Berlin
X-LIC-LOCATION:Europe/Berlin
BEGIN:DAYLIGHT
DTSTART:20180325T030000
TZNAME:CEST
TZOFFSETFROM:+0100
TZOFFSETTO:+0200
END:DAYLIGHT
END:VTIMEZONE
END:VCALENDAR
