BEGIN:VCALENDAR
VERSION:2.0
PRODID:-//Plone.org//NONSGML plone.app.event//EN
X-WR-TIMEZONE:Europe/Berlin
BEGIN:VEVENT
SUMMARY:Gesellschaftstransformation von unten
DTSTART;TZID=Europe/Berlin:20180612T180000
DTEND;TZID=Europe/Berlin:20180612T200000
DTSTAMP:20260424T062753Z
UID:39ed6a996fcd43c3b2ec8fd5e6c23595@www.uni-marburg.de
ATTENDEE;CN="Dr. Iris Kunze (Ökodorf Sieben Linden, Wien)";ROLE=REQ-PARTI
 CIPANT:Dr. Iris Kunze (Ökodorf Sieben Linden, Wien)
CREATED:20180418T114246Z
DESCRIPTION:https://www.uni-marburg.de/de/aktuelles/events/termine-3-quart
 al-2018/vortrag_gesellschaftstransformation\nVortragsreihe "Nachhaltigkeit
  und Gesellschaftsformen aus kritisch geographischer Sicht"
LAST-MODIFIED:20180419T125316Z
LOCATION:Geographie\, Kleiner Hörsaal\, Deutschhausstraße 10
URL:https://www.uni-marburg.de/de/aktuelles/events/termine-3-quartal-2018/
 vortrag_gesellschaftstransformation
END:VEVENT
BEGIN:VTIMEZONE
TZID:Europe/Berlin
X-LIC-LOCATION:Europe/Berlin
BEGIN:DAYLIGHT
DTSTART:20180325T030000
TZNAME:CEST
TZOFFSETFROM:+0100
TZOFFSETTO:+0200
END:DAYLIGHT
END:VTIMEZONE
END:VCALENDAR
