BEGIN:VCALENDAR
VERSION:2.0
PRODID:-//Plone.org//NONSGML plone.app.event//EN
X-WR-TIMEZONE:Europe/Berlin
BEGIN:VEVENT
SUMMARY:Blick in die Vergangenheit: Die minoische Gesellschaft in Kreta
DTSTART;TZID=Europe/Berlin:20180605T180000
DTEND;TZID=Europe/Berlin:20180605T200000
DTSTAMP:20260423T153009Z
UID:fc28efaf33bd4e279a88e8dfee43f75b@www.uni-marburg.de
ATTENDEE;CN="Prof. Dr. em. Beat Schneider (Bern)";ROLE=REQ-PARTICIPANT:Pro
 f. Dr. em. Beat Schneider (Bern)
CREATED:20180418T114246Z
DESCRIPTION:https://www.uni-marburg.de/de/aktuelles/events/termine-3-quart
 al-2018/vortrag_kreta\nVortragsreihe "Nachhaltigkeit und Gesellschaftsform
 en aus kritisch geographischer Sicht"
LAST-MODIFIED:20180419T125145Z
LOCATION:Geographie\, Kleiner Hörsaal\, Deutschhausstraße 10
URL:https://www.uni-marburg.de/de/aktuelles/events/termine-3-quartal-2018/
 vortrag_kreta
END:VEVENT
BEGIN:VTIMEZONE
TZID:Europe/Berlin
X-LIC-LOCATION:Europe/Berlin
BEGIN:DAYLIGHT
DTSTART:20180325T030000
TZNAME:CEST
TZOFFSETFROM:+0100
TZOFFSETTO:+0200
END:DAYLIGHT
END:VTIMEZONE
END:VCALENDAR
