BEGIN:VCALENDAR
VERSION:2.0
PRODID:-//Plone.org//NONSGML plone.app.event//EN
X-WR-TIMEZONE:Europe/Berlin
BEGIN:VEVENT
SUMMARY:I'm at home nowhere
DTSTART;TZID=Europe/Berlin:20180621T180000
DTEND;TZID=Europe/Berlin:20180621T200000
DTSTAMP:20260423T163216Z
UID:165adb09242143d78f8e05da893f9cbd@www.uni-marburg.de
ATTENDEE;CN="Philipp Scheid";ROLE=REQ-PARTICIPANT:Philipp Scheid
CREATED:20180611T071641Z
DESCRIPTION:https://www.uni-marburg.de/de/aktuelles/events/termine-3-quart
 al-2018/wasistpolitikscheid\nMit Wim Wenders durch die bundesdeutsche "Pr
 ärie" - ein Vortrag zum Semesterschwerpunkt "Heimat?" der Reihe "Was ist 
 Politik. Bilder und Ideen der interdisziplinären Forschung" von Portal Id
 eengeschichte.
LAST-MODIFIED:20180611T071712Z
LOCATION:Marburg\, Philipps-Universität Marburg\, Hörsaalgebäude\, Bieg
 enstraße 14\, Raum +1/0030
URL:https://www.uni-marburg.de/de/aktuelles/events/termine-3-quartal-2018/
 wasistpolitikscheid
END:VEVENT
BEGIN:VTIMEZONE
TZID:Europe/Berlin
X-LIC-LOCATION:Europe/Berlin
BEGIN:DAYLIGHT
DTSTART:20180325T030000
TZNAME:CEST
TZOFFSETFROM:+0100
TZOFFSETTO:+0200
END:DAYLIGHT
END:VTIMEZONE
END:VCALENDAR
