BEGIN:VCALENDAR
VERSION:2.0
PRODID:-//Plone.org//NONSGML plone.app.event//EN
X-WR-TIMEZONE:Europe/Berlin
BEGIN:VEVENT
SUMMARY:#wirsindmehr - Marburg gegen Rechtsextremismus
DTSTART;TZID=Europe/Berlin:20180907T170000
DTEND;TZID=Europe/Berlin:20180907T190000
DTSTAMP:20260424T233921Z
UID:fcae899482f842fda7ec95dea0768ea8@www.uni-marburg.de
CREATED:20180905T121228Z
DESCRIPTION:https://www.uni-marburg.de/de/aktuelles/events/termine-3-quart
 al-2018/wirsindmehr-marburg-gegen-rechtsextremismus\nDemonstration und Kun
 dgebung der Stadt Marburg - Philipps-Universität Marburg schließt sich A
 ufruf an
LAST-MODIFIED:20180905T121243Z
LOCATION:Biegenstraße 11\, Platz vor dem Erwin-Piscator-Haus
URL:https://www.uni-marburg.de/de/aktuelles/events/termine-3-quartal-2018/
 wirsindmehr-marburg-gegen-rechtsextremismus
END:VEVENT
BEGIN:VTIMEZONE
TZID:Europe/Berlin
X-LIC-LOCATION:Europe/Berlin
BEGIN:DAYLIGHT
DTSTART:20180325T030000
TZNAME:CEST
TZOFFSETFROM:+0100
TZOFFSETTO:+0200
END:DAYLIGHT
END:VTIMEZONE
END:VCALENDAR
