BEGIN:VCALENDAR
VERSION:2.0
PRODID:-//Plone.org//NONSGML plone.app.event//EN
X-WR-TIMEZONE:Europe/Berlin
BEGIN:VEVENT
SUMMARY:Wunderkammer und wissenschaftliches Archiv
DTSTART;TZID=Europe/Berlin:20180923T150000
DTSTAMP:20260423T163203Z
UID:c5aaba5eb5a34071b00bc89298172c50@www.uni-marburg.de
ATTENDEE;CN="Prof. Dr. Lothar Beck, Philipps-Universität Marburg; Sven Me
 cke, Hessisches Landesmuseum Darmstadt";ROLE=REQ-PARTICIPANT:Prof. Dr. Lot
 har Beck, Philipps-Universität Marburg; Sven Mecke, Hessisches Landesmuse
 um Darmstadt
CREATED:20180919T150340Z
DESCRIPTION:https://www.uni-marburg.de/de/aktuelles/events/termine-3-quart
 al-2018/wunderkammer-und-wissenschaftliches-archiv\nÖffentliche Führung 
 bei der Tagung zu "200 Jahre Zoologische Sammlung Marburg"
LAST-MODIFIED:20180920T101845Z
LOCATION:Karl-von-Frisch-Straße 8\, 35043 Marburg\, Fachbereich Biologie 
 (Nordfoyer)
URL:https://www.uni-marburg.de/de/aktuelles/events/termine-3-quartal-2018/
 wunderkammer-und-wissenschaftliches-archiv
END:VEVENT
BEGIN:VTIMEZONE
TZID:Europe/Berlin
X-LIC-LOCATION:Europe/Berlin
BEGIN:DAYLIGHT
DTSTART:20180325T030000
TZNAME:CEST
TZOFFSETFROM:+0100
TZOFFSETTO:+0200
END:DAYLIGHT
END:VTIMEZONE
END:VCALENDAR
