BEGIN:VCALENDAR
VERSION:2.0
PRODID:-//Plone.org//NONSGML plone.app.event//EN
X-WR-TIMEZONE:Europe/Berlin
BEGIN:VEVENT
SUMMARY:Welche Rolle spielt Forschung in der Gesellschaft?
DTSTART;TZID=Europe/Berlin:20220929T163000
DTSTAMP:20260422T051403Z
UID:6e2d5a8c55e84864bdff5ad80ce811f5@www.uni-marburg.de
ATTENDEE;CN="Prof. Dr. Thomas Nauss (Eröffnung, UMR), Prof. Dr. Stephan B
 ecker (UMR), Prof. Dr. Boris Keil (THM), Prof. Dr. Monika Wingender (JLU),
  Prof. Dr. Till Keller (JLU,) Joshua Prim (THM) ";ROLE=REQ-PARTICIPANT:Pro
 f. Dr. Thomas Nauss (Eröffnung, UMR), Prof. Dr. Stephan Becker (UMR), Pro
 f. Dr. Boris Keil (THM), Prof. Dr. Monika Wingender (JLU), Prof. Dr. Till 
 Keller (JLU,) Joshua Prim (THM) 
CREATED:20220704T091313Z
DESCRIPTION:https://www.uni-marburg.de/de/aktuelles/events/termine-3-quart
 al-2022/fcmh-forschung-gesellschaft\nVeranstaltung der Jubiläumsreihe des
  Forschungscampus Mittelhessen
LAST-MODIFIED:20220913T144046Z
LOCATION:Vortragsraum der Universitätsbibliothek\, Deutschhausstraße 9\,
  35037 Marburg
URL:https://www.uni-marburg.de/de/aktuelles/events/termine-3-quartal-2022/
 fcmh-forschung-gesellschaft
END:VEVENT
BEGIN:VTIMEZONE
TZID:Europe/Berlin
X-LIC-LOCATION:Europe/Berlin
BEGIN:DAYLIGHT
DTSTART:20220327T030000
TZNAME:CEST
TZOFFSETFROM:+0100
TZOFFSETTO:+0200
END:DAYLIGHT
END:VTIMEZONE
END:VCALENDAR
