BEGIN:VCALENDAR
VERSION:2.0
PRODID:-//Plone.org//NONSGML plone.app.event//EN
X-WR-TIMEZONE:Europe/Berlin
BEGIN:VEVENT
SUMMARY:Von Emil von Behring bis zur Biotechnologie
DTSTART;TZID=Europe/Berlin:20220916T143000
DTSTAMP:20260422T013827Z
UID:6321f55fe5914b2989e23dd330573164@www.uni-marburg.de
ATTENDEE;CN="Dr. Ulrike Enke";ROLE=REQ-PARTICIPANT:Dr. Ulrike Enke
ATTENDEE;CN="Prof. Dr. Stephan Becker";ROLE=REQ-PARTICIPANT:Prof. Dr. Step
 han Becker
ATTENDEE;CN="Dr. Karsten Pietron-Kattmann";ROLE=REQ-PARTICIPANT:Dr. Karste
 n Pietron-Kattmann
ATTENDEE;CN="Karin Stichnothe-Botschafter";ROLE=REQ-PARTICIPANT:Karin Stic
 hnothe-Botschafter
CREATED:20220906T090631Z
DESCRIPTION:https://www.uni-marburg.de/de/aktuelles/events/termine-3-quart
 al-2022/von-emil-von-behring-bis-zur-biotechnologie\nBürgersymposium biet
 et Einblicke in Marburger Impfstoffforschung und -produktion sowie zum Wir
 ken Emil von Behrings
LAST-MODIFIED:20220906T090722Z
LOCATION:Aula der Alten Universität\, Lahntor 3\, 35037 Marburg
URL:https://www.uni-marburg.de/de/aktuelles/events/termine-3-quartal-2022/
 von-emil-von-behring-bis-zur-biotechnologie
END:VEVENT
BEGIN:VTIMEZONE
TZID:Europe/Berlin
X-LIC-LOCATION:Europe/Berlin
BEGIN:DAYLIGHT
DTSTART:20220327T030000
TZNAME:CEST
TZOFFSETFROM:+0100
TZOFFSETTO:+0200
END:DAYLIGHT
END:VTIMEZONE
END:VCALENDAR
