BEGIN:VCALENDAR
VERSION:2.0
PRODID:-//Plone.org//NONSGML plone.app.event//EN
X-WR-TIMEZONE:Europe/Berlin
BEGIN:VEVENT
SUMMARY:Eröffnung des CIM-HUB
DTSTART;TZID=Europe/Berlin:20230701T130000
DTEND;TZID=Europe/Berlin:20230701T163000
DTSTAMP:20260424T031956Z
UID:2c7fb738ee1d4f4eba953eb5f4d87b35@www.uni-marburg.de
CREATED:20230622T141312Z
DESCRIPTION:https://www.uni-marburg.de/de/aktuelles/events/termine-3-quart
 al-2023/eroeffnung-des-cim-hub\nGemeinsam kreativ für ein nachhaltiges un
 d zukunftsfähiges Marburg
LAST-MODIFIED:20230630T100302Z
LOCATION:Barfüßerstraße 48\, 35037 Marburg
URL:https://www.uni-marburg.de/de/aktuelles/events/termine-3-quartal-2023/
 eroeffnung-des-cim-hub
END:VEVENT
BEGIN:VTIMEZONE
TZID:Europe/Berlin
X-LIC-LOCATION:Europe/Berlin
BEGIN:DAYLIGHT
DTSTART:20230326T030000
TZNAME:CEST
TZOFFSETFROM:+0100
TZOFFSETTO:+0200
END:DAYLIGHT
END:VTIMEZONE
END:VCALENDAR
