BEGIN:VCALENDAR
VERSION:2.0
PRODID:-//Plone.org//NONSGML plone.app.event//EN
X-WR-TIMEZONE:Europe/Berlin
BEGIN:VEVENT
SUMMARY:Vielversprechende pflanzliche Wirkstoffe aus asiatischen Mahagonie
 gewächsen – Die breite antivirale und antipathogene Wirkung von Rocagla
 ten
DTSTART;TZID=Europe/Berlin:20230905T170000
DTSTAMP:20260424T032137Z
UID:b83596adb65b4d24bdd928b08d1043e7@www.uni-marburg.de
ATTENDEE;CN="Prof. Dr. Arnold Grünweller ";ROLE=REQ-PARTICIPANT:Prof. Dr.
  Arnold Grünweller 
CREATED:20230815T130310Z
DESCRIPTION:https://www.uni-marburg.de/de/aktuelles/events/termine-3-quart
 al-2023/pflanzliche-wirkstoffe-mahagoniegewaechse\nVortrag in der Online-V
 ortragsreihe des LOEWE-Zentrums DRUID
LAST-MODIFIED:20230901T132222Z
LOCATION:Webkonferenzsystem BigBlueButton
URL:https://www.uni-marburg.de/de/aktuelles/events/termine-3-quartal-2023/
 pflanzliche-wirkstoffe-mahagoniegewaechse
END:VEVENT
BEGIN:VTIMEZONE
TZID:Europe/Berlin
X-LIC-LOCATION:Europe/Berlin
BEGIN:DAYLIGHT
DTSTART:20230326T030000
TZNAME:CEST
TZOFFSETFROM:+0100
TZOFFSETTO:+0200
END:DAYLIGHT
END:VTIMEZONE
END:VCALENDAR
