BEGIN:VCALENDAR
VERSION:2.0
PRODID:-//Plone.org//NONSGML plone.app.event//EN
X-WR-TIMEZONE:Europe/Berlin
BEGIN:VEVENT
SUMMARY:"Die Zukunft der Gesundheitssicherheit - Lektionen aus der Pandemi
 e"
DTSTART;TZID=Europe/Berlin:20230711T180000
DTEND;TZID=Europe/Berlin:20230711T200000
DTSTAMP:20260424T054751Z
UID:b2f3a5a6427145a69a81961f4e05df22@www.uni-marburg.de
ATTENDEE;CN="Prof. Dr. Andrea Kießling, Goethe Universität Frankfurt";RO
 LE=REQ-PARTICIPANT:Prof. Dr. Andrea Kießling, Goethe Universität Frankfu
 rt
ATTENDEE;CN="Prof. Dr. Gérard Krause, WHO Genf";ROLE=REQ-PARTICIPANT:Prof
 . Dr. Gérard Krause, WHO Genf
ATTENDEE;CN="Prof. Dr. Sven Opitz, Philipps-Universität Marburg";ROLE=REQ
 -PARTICIPANT:Prof. Dr. Sven Opitz, Philipps-Universität Marburg
CREATED:20230707T071815Z
DESCRIPTION:https://www.uni-marburg.de/de/aktuelles/events/termine-3-quart
 al-2023/podiumsdiskussion-gesundheitssicherheit\nPodiumsdiskussion des SFB
  "Dynamiken der Sicherheit" mit hochkarätigen Expert*innen
LAST-MODIFIED:20230710T120905Z
LOCATION:Landgrafenhaus\, Universitätsstraße 7\, 35037 Marburg\, Raum +2
 /0050
URL:https://www.uni-marburg.de/de/aktuelles/events/termine-3-quartal-2023/
 podiumsdiskussion-gesundheitssicherheit
END:VEVENT
BEGIN:VTIMEZONE
TZID:Europe/Berlin
X-LIC-LOCATION:Europe/Berlin
BEGIN:DAYLIGHT
DTSTART:20230326T030000
TZNAME:CEST
TZOFFSETFROM:+0100
TZOFFSETTO:+0200
END:DAYLIGHT
END:VTIMEZONE
END:VCALENDAR
