BEGIN:VCALENDAR
VERSION:2.0
PRODID:-//Plone.org//NONSGML plone.app.event//EN
X-WR-TIMEZONE:Europe/Berlin
BEGIN:VEVENT
SUMMARY:Schwangerschaft und Geburt im 21. Jahrhundert
DTSTART;TZID=Europe/Berlin:20230712T180000
DTSTAMP:20260424T100842Z
UID:f55c2ae5541d45c58ecd885254078236@www.uni-marburg.de
ATTENDEE;CN="Dr. Siegmund Köhler";ROLE=REQ-PARTICIPANT:Dr. Siegmund Köhl
 er
CREATED:20230706T092235Z
DESCRIPTION:https://www.uni-marburg.de/de/aktuelles/events/termine-3-quart
 al-2023/schwangerschaft-und-geburt-im-21-jahrhundert\nBürgervorlesung hin
 terfragt Mythen rund um Schwangerschaft und Geburt
LAST-MODIFIED:20230706T092321Z
LOCATION:Audimax\, Hörsaalgebäude Biegenstraße 14
URL:https://www.uni-marburg.de/de/aktuelles/events/termine-3-quartal-2023/
 schwangerschaft-und-geburt-im-21-jahrhundert
END:VEVENT
BEGIN:VTIMEZONE
TZID:Europe/Berlin
X-LIC-LOCATION:Europe/Berlin
BEGIN:DAYLIGHT
DTSTART:20230326T030000
TZNAME:CEST
TZOFFSETFROM:+0100
TZOFFSETTO:+0200
END:DAYLIGHT
END:VTIMEZONE
END:VCALENDAR
