BEGIN:VCALENDAR
VERSION:2.0
PRODID:-//Plone.org//NONSGML plone.app.event//EN
X-WR-TIMEZONE:Europe/Berlin
BEGIN:VEVENT
SUMMARY:Semesterabschlusskonzert des SSO
DTSTART;TZID=Europe/Berlin:20230716T180000
DTSTAMP:20260424T031058Z
UID:fef4e01981b44db9aac8b8119ba288ec@www.uni-marburg.de
CREATED:20230710T091234Z
DESCRIPTION:https://www.uni-marburg.de/de/aktuelles/events/termine-3-quart
 al-2023/semesterabschlusskonzert-1\nDas Studentische Sinfonieorchester spi
 elt Werke von Tschaikowsky\, Brahms und anderen
LAST-MODIFIED:20230710T120529Z
LOCATION:Lutherische Pfarrkirche Marburg
URL:https://www.uni-marburg.de/de/aktuelles/events/termine-3-quartal-2023/
 semesterabschlusskonzert-1
END:VEVENT
BEGIN:VTIMEZONE
TZID:Europe/Berlin
X-LIC-LOCATION:Europe/Berlin
BEGIN:DAYLIGHT
DTSTART:20230326T030000
TZNAME:CEST
TZOFFSETFROM:+0100
TZOFFSETTO:+0200
END:DAYLIGHT
END:VTIMEZONE
END:VCALENDAR
