BEGIN:VCALENDAR
VERSION:2.0
PRODID:-//Plone.org//NONSGML plone.app.event//EN
X-WR-TIMEZONE:Europe/Berlin
BEGIN:VEVENT
SUMMARY:Semesterabschlusskonzert des SSO
DTSTART;TZID=Europe/Berlin:20230711T194500
DTSTAMP:20260423T231527Z
UID:da0acc72cc7f4b329fb5276944283490@www.uni-marburg.de
CREATED:20230710T090837Z
DESCRIPTION:https://www.uni-marburg.de/de/aktuelles/events/termine-3-quart
 al-2023/semesterabschlusskonzert\nDas Studentische Sinfonieorchester spiel
 t Werke von Tschaikowsky\, Brahms und anderen
LAST-MODIFIED:20230818T091531Z
LOCATION:Lutherische Pfarrkirche Marburg
URL:https://www.uni-marburg.de/de/aktuelles/events/termine-3-quartal-2023/
 semesterabschlusskonzert
END:VEVENT
BEGIN:VTIMEZONE
TZID:Europe/Berlin
X-LIC-LOCATION:Europe/Berlin
BEGIN:DAYLIGHT
DTSTART:20230326T030000
TZNAME:CEST
TZOFFSETFROM:+0100
TZOFFSETTO:+0200
END:DAYLIGHT
END:VTIMEZONE
END:VCALENDAR
