BEGIN:VCALENDAR
VERSION:2.0
PRODID:-//Plone.org//NONSGML plone.app.event//EN
X-WR-TIMEZONE:Europe/Berlin
BEGIN:VEVENT
SUMMARY:Trügerische Idylle - Die Gefahr lauert im Wasser
DTSTART;TZID=Europe/Berlin:20230704T170000
DTSTAMP:20260423T231543Z
UID:395c79be774c446ab907b03e22d98467@www.uni-marburg.de
ATTENDEE;CN="Prof. Dr. Christoph G. Grevelding";ROLE=REQ-PARTICIPANT:Prof.
  Dr. Christoph G. Grevelding
CREATED:20230622T144255Z
DESCRIPTION:https://www.uni-marburg.de/de/aktuelles/events/termine-3-quart
 al-2023/truegerische-idylle\nVortrag am LOEWE-Zentrum DRUID über die Erkr
 ankung Schistosomiasis (Bilharziose)
LAST-MODIFIED:20230622T144615Z
LOCATION:Online\, https://webconf.hrz.uni-marburg.de/c/chr-pe2-ojd-acs
URL:https://www.uni-marburg.de/de/aktuelles/events/termine-3-quartal-2023/
 truegerische-idylle
END:VEVENT
BEGIN:VTIMEZONE
TZID:Europe/Berlin
X-LIC-LOCATION:Europe/Berlin
BEGIN:DAYLIGHT
DTSTART:20230326T030000
TZNAME:CEST
TZOFFSETFROM:+0100
TZOFFSETTO:+0200
END:DAYLIGHT
END:VTIMEZONE
END:VCALENDAR
