BEGIN:VCALENDAR
VERSION:2.0
PRODID:-//Plone.org//NONSGML plone.app.event//EN
X-WR-TIMEZONE:Europe/Berlin
BEGIN:VEVENT
SUMMARY:Uni-Sommerfest im Neuen Botanischen Garten
DTSTART;TZID=Europe/Berlin:20230714T140000
DTSTAMP:20260423T011730Z
UID:a537e57c10ae4e0d9f1e0849563b555a@www.uni-marburg.de
CREATED:20221114T113025Z
DESCRIPTION:https://www.uni-marburg.de/de/aktuelles/events/termine-3-quart
 al-2023/uni-sommerfest\nDie Uni lädt Studierende\, Beschäftigte und alle
  Interessierten zum Sommerfest 2023 ein
LAST-MODIFIED:20230628T095330Z
LOCATION:Neuer Botanischer Garten\, Karl-von-Frisch-Straße\, 35043 Marbur
 g
URL:https://www.uni-marburg.de/de/aktuelles/events/termine-3-quartal-2023/
 uni-sommerfest
END:VEVENT
BEGIN:VTIMEZONE
TZID:Europe/Berlin
X-LIC-LOCATION:Europe/Berlin
BEGIN:DAYLIGHT
DTSTART:20230326T030000
TZNAME:CEST
TZOFFSETFROM:+0100
TZOFFSETTO:+0200
END:DAYLIGHT
END:VTIMEZONE
END:VCALENDAR
