BEGIN:VCALENDAR
VERSION:2.0
PRODID:-//Plone.org//NONSGML plone.app.event//EN
X-WR-TIMEZONE:Europe/Berlin
BEGIN:VEVENT
SUMMARY:Brüder Grimm-Preis 2017 an Heide Wunder
DTSTART;TZID=Europe/Berlin:20171124T180000
DTSTAMP:20260423T224655Z
UID:edf8d4b615ed4c5ab021895e10aea344@www.uni-marburg.de
CREATED:20171013T063810Z
DESCRIPTION:https://www.uni-marburg.de/de/aktuelles/events/termine-4-quart
 al-2018/brueder-grimm-preis-2017\nÖffentliche Preisverleihung in der Aula
  der Alten Universität
LAST-MODIFIED:20171019T100324Z
LOCATION:Aula der Alten Universität
URL:https://www.uni-marburg.de/de/aktuelles/events/termine-4-quartal-2018/
 brueder-grimm-preis-2017
END:VEVENT
BEGIN:VTIMEZONE
TZID:Europe/Berlin
X-LIC-LOCATION:Europe/Berlin
BEGIN:STANDARD
DTSTART:20171029T020000
TZNAME:CET
TZOFFSETFROM:+0200
TZOFFSETTO:+0100
END:STANDARD
END:VTIMEZONE
END:VCALENDAR
