BEGIN:VCALENDAR
VERSION:2.0
PRODID:-//Plone.org//NONSGML plone.app.event//EN
X-WR-TIMEZONE:Europe/Berlin
BEGIN:VEVENT
SUMMARY:Inklusion und gymnasiale Lehrerbildung
DTSTART;TZID=Europe/Berlin:20181107T201500
DTSTAMP:20260421T093008Z
UID:d9fbd4d31c244042a4e747c0f92ecd40@www.uni-marburg.de
ATTENDEE;CN="Prof. Dr. Wolfgang Meseth (Schulpädagogik mit dem Schwerpunk
 t „Bildung und Heterogenität“)";ROLE=REQ-PARTICIPANT:Prof. Dr. Wolfga
 ng Meseth (Schulpädagogik mit dem Schwerpunkt „Bildung und Heterogenit
 ät“)
CREATED:20180918T070526Z
DESCRIPTION:https://www.uni-marburg.de/de/aktuelles/events/termine-4-quart
 al-2018/inklusion-und-gymnasiale-lehrerbildung\nZur Zukunft einer unverwü
 stlichen Schulform - \nVortrag im Studium Generale im Wintersemester 2018/
 19
LAST-MODIFIED:20180920T085941Z
LOCATION:Audimax im Hörsaalgebäude (+2/0010)\, Biegenstraße 14\, 35037 
 Marburg
URL:https://www.uni-marburg.de/de/aktuelles/events/termine-4-quartal-2018/
 inklusion-und-gymnasiale-lehrerbildung
END:VEVENT
BEGIN:VTIMEZONE
TZID:Europe/Berlin
X-LIC-LOCATION:Europe/Berlin
BEGIN:STANDARD
DTSTART:20181028T020000
TZNAME:CET
TZOFFSETFROM:+0200
TZOFFSETTO:+0100
END:STANDARD
END:VTIMEZONE
END:VCALENDAR
