BEGIN:VCALENDAR
VERSION:2.0
PRODID:-//Plone.org//NONSGML plone.app.event//EN
X-WR-TIMEZONE:Europe/Berlin
BEGIN:VEVENT
SUMMARY:Fächerübergreifendes Promovierendentreffen 2019
DTSTART;TZID=Europe/Berlin:20191130T090000
DTEND;TZID=Europe/Berlin:20191201T153000
DTSTAMP:20260424T044425Z
UID:1735f0f669d9418298ccf4a90caa36f7@www.uni-marburg.de
CREATED:20190730T130413Z
DESCRIPTION:https://www.uni-marburg.de/de/aktuelles/events/termine-4-quart
 al-2019/faecheruebergreifendes-promovierendentreffen-2019\n
LAST-MODIFIED:20190923T072228Z
LOCATION:Schloss Rauischholzhausen
URL:https://www.uni-marburg.de/de/aktuelles/events/termine-4-quartal-2019/
 faecheruebergreifendes-promovierendentreffen-2019
END:VEVENT
BEGIN:VTIMEZONE
TZID:Europe/Berlin
X-LIC-LOCATION:Europe/Berlin
BEGIN:STANDARD
DTSTART:20191027T020000
TZNAME:CET
TZOFFSETFROM:+0200
TZOFFSETTO:+0100
END:STANDARD
END:VTIMEZONE
END:VCALENDAR
