BEGIN:VCALENDAR
VERSION:2.0
PRODID:-//Plone.org//NONSGML plone.app.event//EN
X-WR-TIMEZONE:Europe/Berlin
BEGIN:VEVENT
SUMMARY:Aktuelle Gesprächsrunde zu Konflikt zwischen Hamas und Israel
DTSTART;TZID=Europe/Berlin:20231017T193000
DTSTAMP:20260425T054146Z
UID:cafb07ca2a0642a9b2503490c7ce7ba4@www.uni-marburg.de
ATTENDEE;CN="Prof. Dr. Susanne Buckley-Zistel";ROLE=REQ-PARTICIPANT:Prof. 
 Dr. Susanne Buckley-Zistel
ATTENDEE;CN="Prof. Dr. Stefanie Bock";ROLE=REQ-PARTICIPANT:Prof. Dr. Stefa
 nie Bock
ATTENDEE;CN="Prof. Dr. Martin Beck";ROLE=REQ-PARTICIPANT:Prof. Dr. Martin 
 Beck
ATTENDEE;CN="Dr. Claudia Baumgart-Ochse";ROLE=REQ-PARTICIPANT:Dr. Claudia 
 Baumgart-Ochse
CREATED:20231013T094627Z
DESCRIPTION:https://www.uni-marburg.de/de/aktuelles/events/termine-4-quart
 al-2023/aktuelle-gespraechsrunde-zu-konflikt-zwischen-hamas-und-israel\nZe
 ntrum für Konfliktforschung lädt zu Gesprächsrunde im Ersatz-Hörsaal f
 ür das Audimax ein
LAST-MODIFIED:20231013T101024Z
LOCATION:Ersatz-Hörsaal für Audimax\, Biegenstraße 14\, 35037 Marburg
URL:https://www.uni-marburg.de/de/aktuelles/events/termine-4-quartal-2023/
 aktuelle-gespraechsrunde-zu-konflikt-zwischen-hamas-und-israel
END:VEVENT
BEGIN:VTIMEZONE
TZID:Europe/Berlin
X-LIC-LOCATION:Europe/Berlin
BEGIN:DAYLIGHT
DTSTART:20230326T030000
TZNAME:CEST
TZOFFSETFROM:+0100
TZOFFSETTO:+0200
END:DAYLIGHT
END:VTIMEZONE
END:VCALENDAR
