BEGIN:VCALENDAR
VERSION:2.0
PRODID:-//Plone.org//NONSGML plone.app.event//EN
X-WR-TIMEZONE:Europe/Berlin
BEGIN:VEVENT
SUMMARY:Nase voll? Die Therapie der chronischen Nasennebenhöhlenbeschwerd
 en – Von der medikamentösen Therapie bis zur minimal-invasiven Chirurgi
 e
DTSTART;TZID=Europe/Berlin:20231122T180000
DTSTAMP:20260421T033922Z
UID:0159c4c014a44649b51f9de3e75a2812@www.uni-marburg.de
ATTENDEE;CN="Prof. Dr. Richard Birk, Prof. Dr. Oliver Pfaar und Prof. Dr. 
 Boris Stuck ";ROLE=REQ-PARTICIPANT:Prof. Dr. Richard Birk, Prof. Dr. Oliv
 er Pfaar und Prof. Dr. Boris Stuck 
CREATED:20231116T092216Z
DESCRIPTION:https://www.uni-marburg.de/de/aktuelles/events/termine-4-quart
 al-2023/buergervorlesung-2023-11-22\nBürgervorlesung 2023 des Universitä
 tsklinikums Marburg und des Fachbereichs Medizin
LAST-MODIFIED:20231116T092605Z
LOCATION:Laborgebäude (N/02)\, Hörsaal 010\, Robert-Koch-Str. 4\, 35037 
 Marburg
URL:https://www.uni-marburg.de/de/aktuelles/events/termine-4-quartal-2023/
 buergervorlesung-2023-11-22
END:VEVENT
BEGIN:VTIMEZONE
TZID:Europe/Berlin
X-LIC-LOCATION:Europe/Berlin
BEGIN:STANDARD
DTSTART:20231029T020000
TZNAME:CET
TZOFFSETFROM:+0200
TZOFFSETTO:+0100
END:STANDARD
END:VTIMEZONE
END:VCALENDAR
