BEGIN:VCALENDAR
VERSION:2.0
PRODID:-//Plone.org//NONSGML plone.app.event//EN
X-WR-TIMEZONE:Europe/Berlin
BEGIN:VEVENT
SUMMARY:Emil von Behring-Preis und Behring-Symposium
DTSTART;TZID=Europe/Berlin:20231102T150000
DTEND;TZID=Europe/Berlin:20231102T183000
DTSTAMP:20260420T064342Z
UID:5ba284380e0d466e80c83754ec40a89f@www.uni-marburg.de
CREATED:20231019T110441Z
DESCRIPTION:https://www.uni-marburg.de/de/aktuelles/events/termine-4-quart
 al-2023/emil-von-behring-preis-und-behring-symposium\nDie amerikanische Mi
 krobiologin Elizabeth A. Campbell erhält den Emil von Behring-Preis 2023
LAST-MODIFIED:20231020T175632Z
LOCATION:Aula der Alten Universität\, Lahntor 3\, 35037 Marburg (Eingang 
 an der Reitgasse)
URL:https://www.uni-marburg.de/de/aktuelles/events/termine-4-quartal-2023/
 emil-von-behring-preis-und-behring-symposium
END:VEVENT
BEGIN:VTIMEZONE
TZID:Europe/Berlin
X-LIC-LOCATION:Europe/Berlin
BEGIN:STANDARD
DTSTART:20231029T020000
TZNAME:CET
TZOFFSETFROM:+0200
TZOFFSETTO:+0100
END:STANDARD
END:VTIMEZONE
END:VCALENDAR
