BEGIN:VCALENDAR
VERSION:2.0
PRODID:-//Plone.org//NONSGML plone.app.event//EN
X-WR-TIMEZONE:Europe/Berlin
BEGIN:VEVENT
SUMMARY:Lange Nacht der Wissenschaft – Chemie und Physik
DTSTART;TZID=Europe/Berlin:20231103T183000
DTSTAMP:20260425T050854Z
UID:37af35ae9b2e4816940a6bb18c8e5ba4@www.uni-marburg.de
CREATED:20231101T134815Z
DESCRIPTION:https://www.uni-marburg.de/de/aktuelles/events/termine-4-quart
 al-2023/lange-nacht-der-wissenschaft-chemie-und-physik\nZwei Fachbereiche 
 laden alle MINT-Begeisterten zu einem informativen und unterhaltenden Vort
 ragsabend ein
LAST-MODIFIED:20231101T134856Z
LOCATION:Hans-Meerwein-Str. 8\, Hörsaal A\, 35043 Marburg
URL:https://www.uni-marburg.de/de/aktuelles/events/termine-4-quartal-2023/
 lange-nacht-der-wissenschaft-chemie-und-physik
END:VEVENT
BEGIN:VTIMEZONE
TZID:Europe/Berlin
X-LIC-LOCATION:Europe/Berlin
BEGIN:STANDARD
DTSTART:20231029T020000
TZNAME:CET
TZOFFSETFROM:+0200
TZOFFSETTO:+0100
END:STANDARD
END:VTIMEZONE
END:VCALENDAR
