BEGIN:VCALENDAR
VERSION:2.0
PRODID:-//Plone.org//NONSGML plone.app.event//EN
X-WR-TIMEZONE:Europe/Berlin
BEGIN:VEVENT
SUMMARY:Lectio Philippina der Hessischen Stipendiat*innenanstalt
DTSTART;TZID=Europe/Berlin:20231122T201500
DTEND;TZID=Europe/Berlin:20231122T214500
DTSTAMP:20260424T025150Z
UID:66d568820ce042298ee8be872aef7e76@www.uni-marburg.de
CREATED:20231120T153845Z
DESCRIPTION:https://www.uni-marburg.de/de/aktuelles/events/termine-4-quart
 al-2023/lectio-philippina-der-hessischen-stipendiat-innenanstalt\nÜber Wi
 ssenschaft reden in Politik und Universität mit Ministerin für Wissensch
 aft und Kunst Angela Dorn und Vizepräsidentin für Bildung Prof. Dr. Kati
  Hannken-Illjes
LAST-MODIFIED:20231120T153857Z
LOCATION:Aula der Alten Universität\, Lahntor 3\, Marburg
URL:https://www.uni-marburg.de/de/aktuelles/events/termine-4-quartal-2023/
 lectio-philippina-der-hessischen-stipendiat-innenanstalt
END:VEVENT
BEGIN:VTIMEZONE
TZID:Europe/Berlin
X-LIC-LOCATION:Europe/Berlin
BEGIN:STANDARD
DTSTART:20231029T020000
TZNAME:CET
TZOFFSETFROM:+0200
TZOFFSETTO:+0100
END:STANDARD
END:VTIMEZONE
END:VCALENDAR
