BEGIN:VCALENDAR
VERSION:2.0
PRODID:-//Plone.org//NONSGML plone.app.event//EN
X-WR-TIMEZONE:Europe/Berlin
BEGIN:VEVENT
SUMMARY:Literarischer Abend mit Autorin und Übersetzerin Nicola Denis
DTSTART;TZID=Europe/Berlin:20231115T190000
DTSTAMP:20260425T002144Z
UID:3008c53145934b5aa40ae9debdc93513@www.uni-marburg.de
CREATED:20231108T123348Z
DESCRIPTION:https://www.uni-marburg.de/de/aktuelles/events/termine-4-quart
 al-2023/literarischer-abend-mit-autorin-und-uebersetzerin-nicola-denis\nVo
 m Wert des Übersetzens
LAST-MODIFIED:20231108T123707Z
LOCATION:Technologie- und Tagungszentrum (TTZ)\, Softwarecenter 3 / Frankf
 urter Straße\, 35037 Marburg
URL:https://www.uni-marburg.de/de/aktuelles/events/termine-4-quartal-2023/
 literarischer-abend-mit-autorin-und-uebersetzerin-nicola-denis
END:VEVENT
BEGIN:VTIMEZONE
TZID:Europe/Berlin
X-LIC-LOCATION:Europe/Berlin
BEGIN:STANDARD
DTSTART:20231029T020000
TZNAME:CET
TZOFFSETFROM:+0200
TZOFFSETTO:+0100
END:STANDARD
END:VTIMEZONE
END:VCALENDAR
