BEGIN:VCALENDAR
VERSION:2.0
PRODID:-//Plone.org//NONSGML plone.app.event//EN
X-WR-TIMEZONE:Europe/Berlin
BEGIN:VEVENT
SUMMARY:Führung: "Blüten und Bestäuber- Verbindungen die Früchte trage
 n"
DTSTART;TZID=Europe/Berlin:20260802T110000
DTSTAMP:20260422T005440Z
UID:5ec4d5cfa0dd4403b1ad4108e1568159@www.uni-marburg.de
ATTENDEE;CN="Britta von Daacke (Abteilungsleitung Freiland)";ROLE=REQ-PART
 ICIPANT:Britta von Daacke (Abteilungsleitung Freiland)
CREATED:20260202T124205Z
DESCRIPTION:https://www.uni-marburg.de/de/botgart/aktuelles/termine/fuehru
 ng-blueten-und-bestaeuber-verbindungen-die-fruechte-tragen\n
LAST-MODIFIED:20260202T124215Z
LOCATION:Neuer Botanischer Garten\; Treffpunkt: Eingangsbereich an den Gew
 ächshäusern
URL:https://www.uni-marburg.de/de/botgart/aktuelles/termine/fuehrung-bluet
 en-und-bestaeuber-verbindungen-die-fruechte-tragen
END:VEVENT
BEGIN:VTIMEZONE
TZID:Europe/Berlin
X-LIC-LOCATION:Europe/Berlin
BEGIN:DAYLIGHT
DTSTART:20260329T030000
TZNAME:CEST
TZOFFSETFROM:+0100
TZOFFSETTO:+0200
END:DAYLIGHT
END:VTIMEZONE
END:VCALENDAR
