BEGIN:VCALENDAR
VERSION:2.0
PRODID:-//Plone.org//NONSGML plone.app.event//EN
X-WR-TIMEZONE:Europe/Berlin
BEGIN:VEVENT
SUMMARY:Führung: "Von der Wiese in die Systematische Abteilung"
DTSTART;TZID=Europe/Berlin:20260705T110000
DTSTAMP:20260422T051024Z
UID:71fd5bfff26a466cb3f7ec154518b213@www.uni-marburg.de
ATTENDEE;CN="Gärtnermeisterin Christina Rees";ROLE=REQ-PARTICIPANT:Gärtn
 ermeisterin Christina Rees
CREATED:20260202T124010Z
DESCRIPTION:https://www.uni-marburg.de/de/botgart/aktuelles/termine/fuehru
 ng-von-der-wiese-in-die-systematische-abteilung\n
LAST-MODIFIED:20260202T124715Z
LOCATION:Neuer Botanischer Garten\; Treffpunkt: Eingangsbereich an den Gew
 ächshäusern
URL:https://www.uni-marburg.de/de/botgart/aktuelles/termine/fuehrung-von-d
 er-wiese-in-die-systematische-abteilung
END:VEVENT
BEGIN:VTIMEZONE
TZID:Europe/Berlin
X-LIC-LOCATION:Europe/Berlin
BEGIN:DAYLIGHT
DTSTART:20260329T030000
TZNAME:CEST
TZOFFSETFROM:+0100
TZOFFSETTO:+0200
END:DAYLIGHT
END:VTIMEZONE
END:VCALENDAR
