BEGIN:VCALENDAR
VERSION:2.0
PRODID:-//Plone.org//NONSGML plone.app.event//EN
X-WR-TIMEZONE:Europe/Berlin
BEGIN:VEVENT
SUMMARY:40 Jahre Mediävistenverband
DTSTART;TZID=Europe/Berlin:20231201T180000
DTEND;TZID=Europe/Berlin:20231201T200000
DTSTAMP:20260422T024620Z
UID:ccd1fd1dc1764049ada779002db7b33f@www.uni-marburg.de
CREATED:20231005T090600Z
DESCRIPTION:https://www.uni-marburg.de/de/cnms/aktuelles/termine/40-jahre-
 mediaevistenverband\nFestveranstaltung\, 40 Jahre Mediävistenverband\, Gr
 ußworte von Bürgermeisterin Nadine Bernshausen und MV Präsidentin Prof 
 Regina Töpfer\, Festvortrag von Prof. Frank Rexroth (Göttingen)\, Gesell
 ige Aussteiger. Gelehrte Eremiten auf der Suche nach dem neuen Wissen
LAST-MODIFIED:20231005T090620Z
LOCATION:Historischer Rathaussaal\, Markt 1\, 35037 Marburg
URL:https://www.uni-marburg.de/de/cnms/aktuelles/termine/40-jahre-mediaevi
 stenverband
END:VEVENT
BEGIN:VTIMEZONE
TZID:Europe/Berlin
X-LIC-LOCATION:Europe/Berlin
BEGIN:STANDARD
DTSTART:20231029T020000
TZNAME:CET
TZOFFSETFROM:+0200
TZOFFSETTO:+0100
END:STANDARD
END:VTIMEZONE
END:VCALENDAR
