BEGIN:VCALENDAR
VERSION:2.0
PRODID:-//Plone.org//NONSGML plone.app.event//EN
X-WR-TIMEZONE:Europe/Berlin
BEGIN:VEVENT
SUMMARY:Abschiedsvorlesung Prof. Dr. Stefan Weninger
DTSTART;TZID=Europe/Berlin:20260213T151500
DTEND;TZID=Europe/Berlin:20260213T170000
DTSTAMP:20260419T202837Z
UID:fc7e4faa235c46d4b4cad7b761131cfd@www.uni-marburg.de
CATEGORIES:()
CREATED:20251107T123834Z
DESCRIPTION:https://www.uni-marburg.de/de/cnms/aktuelles/termine/abschieds
 vorlesung-prof-dr-stefan-weninger\n\,\,Hiob Ludolf: Gelehrter\, Politiker 
 und Begründer der wissenschaftlichen Äthiopistik"
LAST-MODIFIED:20260130T091853Z
LOCATION:00A26\, CNMS\, Deutschhausstraße 12
URL:https://www.uni-marburg.de/de/cnms/aktuelles/termine/abschiedsvorlesun
 g-prof-dr-stefan-weninger
END:VEVENT
BEGIN:VTIMEZONE
TZID:Europe/Berlin
X-LIC-LOCATION:Europe/Berlin
BEGIN:STANDARD
DTSTART:20251026T020000
TZNAME:CET
TZOFFSETFROM:+0200
TZOFFSETTO:+0100
END:STANDARD
END:VTIMEZONE
END:VCALENDAR
