BEGIN:VCALENDAR
VERSION:2.0
PRODID:-//Plone.org//NONSGML plone.app.event//EN
X-WR-TIMEZONE:Europe/Berlin
BEGIN:VEVENT
SUMMARY:Academic Freedom in the Context of Higher Education of Afghanistan
DTSTART;TZID=Europe/Berlin:20240206T181500
DTEND;TZID=Europe/Berlin:20240206T194500
DTSTAMP:20260424T235555Z
UID:86cca0aaae244ddfbbecea892718bbf7@www.uni-marburg.de
ATTENDEE;CN=" Prof. Dr. Mohammad Osman Babury ";ROLE=REQ-PARTICIPANT: Prof
 . Dr. Mohammad Osman Babury 
CREATED:20240131T141010Z
DESCRIPTION:https://www.uni-marburg.de/de/cnms/aktuelles/termine/academic-
 freedom-in-the-context-of-higher-education-of-afghanistan\n
LAST-MODIFIED:20240131T142249Z
LOCATION:CNMS\, Raum 01A25
URL:https://www.uni-marburg.de/de/cnms/aktuelles/termine/academic-freedom-
 in-the-context-of-higher-education-of-afghanistan
END:VEVENT
BEGIN:VTIMEZONE
TZID:Europe/Berlin
X-LIC-LOCATION:Europe/Berlin
BEGIN:STANDARD
DTSTART:20231029T020000
TZNAME:CET
TZOFFSETFROM:+0200
TZOFFSETTO:+0100
END:STANDARD
END:VTIMEZONE
END:VCALENDAR
