BEGIN:VCALENDAR
VERSION:2.0
PRODID:-//Plone.org//NONSGML plone.app.event//EN
X-WR-TIMEZONE:Europe/Berlin
BEGIN:VEVENT
SUMMARY:Film: The Last Letter to Nasser von Fayza Harby-Bemmann
DTSTART;TZID=Europe/Berlin:20230606T181500
DTEND;TZID=Europe/Berlin:20230606T200000
DTSTAMP:20260421T165115Z
UID:a848c0685da64c7fba35b4f9df477dad@www.uni-marburg.de
ATTENDEE;CN="Fayza Harby";ROLE=REQ-PARTICIPANT:Fayza Harby
CREATED:20230404T134417Z
DESCRIPTION:https://www.uni-marburg.de/de/cnms/aktuelles/termine/aegyptisc
 he-filmvorfuehrung\nFilm OmeU
LAST-MODIFIED:20230605T103223Z
LOCATION:Marburg\, CNMS\, Hörsaal
URL:https://www.uni-marburg.de/de/cnms/aktuelles/termine/aegyptische-filmv
 orfuehrung
END:VEVENT
BEGIN:VTIMEZONE
TZID:Europe/Berlin
X-LIC-LOCATION:Europe/Berlin
BEGIN:DAYLIGHT
DTSTART:20230326T030000
TZNAME:CEST
TZOFFSETFROM:+0100
TZOFFSETTO:+0200
END:DAYLIGHT
END:VTIMEZONE
END:VCALENDAR
