BEGIN:VCALENDAR
VERSION:2.0
PRODID:-//Plone.org//NONSGML plone.app.event//EN
X-WR-TIMEZONE:Europe/Berlin
BEGIN:VEVENT
SUMMARY:Dr. Annabelle Houdret: Alles fließt? Die Bedeutung von Wasser fü
 r den Gesellschaftsvertrag in Marokko
DTSTART;TZID=Europe/Berlin:20230112T180000
DTEND;TZID=Europe/Berlin:20230112T200000
DTSTAMP:20260425T025204Z
UID:fe32e56d0dce4792a99ae5679988d443@www.uni-marburg.de
ATTENDEE;CN="Dr. Annabelle Houdret";ROLE=REQ-PARTICIPANT:Dr. Annabelle Hou
 dret
CREATED:20220927T110339Z
DESCRIPTION:https://www.uni-marburg.de/de/cnms/aktuelles/termine/alles-fli
 esst-die-bedeutung-von-wasser-fuer-den-gesellschaftsvertrag-in-marokko\nRi
 ngvorlesung Extractivism
LAST-MODIFIED:20221013T103302Z
LOCATION:Marburg\, CNMS\, 00A26
URL:https://www.uni-marburg.de/de/cnms/aktuelles/termine/alles-fliesst-die
 -bedeutung-von-wasser-fuer-den-gesellschaftsvertrag-in-marokko
END:VEVENT
BEGIN:VTIMEZONE
TZID:Europe/Berlin
X-LIC-LOCATION:Europe/Berlin
BEGIN:STANDARD
DTSTART:20221030T020000
TZNAME:CET
TZOFFSETFROM:+0200
TZOFFSETTO:+0100
END:STANDARD
END:VTIMEZONE
END:VCALENDAR
