BEGIN:VCALENDAR
VERSION:2.0
PRODID:-//Plone.org//NONSGML plone.app.event//EN
X-WR-TIMEZONE:Europe/Berlin
BEGIN:VEVENT
SUMMARY:Prof. Dr. Anita Engels\, Thomas Frisch\, Solange Commelin: Amazona
 s\, Ölreserven und das Klimamanagement von Unternehmen: Eine brasilianisc
 he Perspektive auf die Erreichbarkeit der Pariser Klimaziele
DTSTART;TZID=Europe/Berlin:20221103T180000
DTEND;TZID=Europe/Berlin:20221103T200000
DTSTAMP:20260425T215025Z
UID:f40a13503ee644bba79fea850f793469@www.uni-marburg.de
ATTENDEE;CN="Prof. Dr. Anita Engels, Thomas Frisch, Solange Commelin";ROLE
 =REQ-PARTICIPANT:Prof. Dr. Anita Engels, Thomas Frisch, Solange Commelin
CREATED:20220923T111010Z
DESCRIPTION:https://www.uni-marburg.de/de/cnms/aktuelles/termine/amazonas-
 oelreserven-und-das-klimamanagement-von-unternehmen-eine-brasilianische-pe
 rspektive-auf-die-erreichbarkeit-der-pariser-klimaziele\nRingvorlesung Ext
 ractivism
LAST-MODIFIED:20221012T111634Z
LOCATION:Kassel
URL:https://www.uni-marburg.de/de/cnms/aktuelles/termine/amazonas-oelreser
 ven-und-das-klimamanagement-von-unternehmen-eine-brasilianische-perspektiv
 e-auf-die-erreichbarkeit-der-pariser-klimaziele
END:VEVENT
BEGIN:VTIMEZONE
TZID:Europe/Berlin
X-LIC-LOCATION:Europe/Berlin
BEGIN:STANDARD
DTSTART:20221030T020000
TZNAME:CET
TZOFFSETFROM:+0200
TZOFFSETTO:+0100
END:STANDARD
END:VTIMEZONE
END:VCALENDAR
