BEGIN:VCALENDAR
VERSION:2.0
PRODID:-//Plone.org//NONSGML plone.app.event//EN
X-WR-TIMEZONE:Europe/Berlin
BEGIN:VEVENT
SUMMARY:Anti-Islamic Semiotics in Turkish Black Metal
DTSTART;TZID=Europe/Berlin:20230606T161500
DTEND;TZID=Europe/Berlin:20230606T174500
DTSTAMP:20260421T113204Z
UID:afa3171106a943c584507b616d6539dc@www.uni-marburg.de
ATTENDEE;CN="Douglas Mattsson, Södertörn-Universität, Schweden";ROLE=RE
 Q-PARTICIPANT:Douglas Mattsson, Södertörn-Universität, Schweden
CREATED:20230530T055227Z
DESCRIPTION:https://www.uni-marburg.de/de/cnms/aktuelles/termine/anti-isla
 mic-semiotics-in-turkish-black-metal\n
LAST-MODIFIED:20230530T133817Z
LOCATION:00A02\, CNMS\, Marburg
URL:https://www.uni-marburg.de/de/cnms/aktuelles/termine/anti-islamic-semi
 otics-in-turkish-black-metal
END:VEVENT
BEGIN:VTIMEZONE
TZID:Europe/Berlin
X-LIC-LOCATION:Europe/Berlin
BEGIN:DAYLIGHT
DTSTART:20230326T030000
TZNAME:CEST
TZOFFSETFROM:+0100
TZOFFSETTO:+0200
END:DAYLIGHT
END:VTIMEZONE
END:VCALENDAR
