BEGIN:VCALENDAR
VERSION:2.0
PRODID:-//Plone.org//NONSGML plone.app.event//EN
X-WR-TIMEZONE:Europe/Berlin
BEGIN:VEVENT
SUMMARY:„Arabellion 2.0“: Was vom Arabischen Frühling übrigblieb.
DTSTART;TZID=Europe/Berlin:20191128T181500
DTEND;TZID=Europe/Berlin:20191128T194500
DTSTAMP:20260424T062145Z
UID:c55ad6a0b8124bf5a12b05ad29f32ba2@www.uni-marburg.de
CREATED:20191114T151634Z
DESCRIPTION:https://www.uni-marburg.de/de/cnms/aktuelles/termine/arabellio
 n-2-0-was-vom-arabischen-fruehling-uebrigblieb-1\nVortrag von Loay Mudhoon
 \, Nahost-Experte\, Qantara Köln
LAST-MODIFIED:20191114T153808Z
LOCATION:Centrum für Nah- und Mittelost-Studien der Philipps-Universität
 \, Deutschhausstraße 12\, 35037 Marburg\, Raum 00A26
URL:https://www.uni-marburg.de/de/cnms/aktuelles/termine/arabellion-2-0-wa
 s-vom-arabischen-fruehling-uebrigblieb-1
END:VEVENT
BEGIN:VTIMEZONE
TZID:Europe/Berlin
X-LIC-LOCATION:Europe/Berlin
BEGIN:STANDARD
DTSTART:20191027T020000
TZNAME:CET
TZOFFSETFROM:+0200
TZOFFSETTO:+0100
END:STANDARD
END:VTIMEZONE
END:VCALENDAR
