BEGIN:VCALENDAR
VERSION:2.0
PRODID:-//Plone.org//NONSGML plone.app.event//EN
X-WR-TIMEZONE:Europe/Berlin
BEGIN:VEVENT
SUMMARY:Arbeitskreis Türkeistudien
DTSTART;TZID=Europe/Berlin:20260119T181500
DTEND;TZID=Europe/Berlin:20260119T194500
DTSTAMP:20260420T193707Z
UID:de9ef9e3e24f40f3a1a62c5adf9fa975@www.uni-marburg.de
CATEGORIES:()
CREATED:20260113T085753Z
DESCRIPTION:https://www.uni-marburg.de/de/cnms/aktuelles/termine/arbeitskr
 eis-tuerkeistudien\n
LAST-MODIFIED:20260113T085906Z
LOCATION:00A03\, CNMS\, Deutschhausstraße 12
URL:https://www.uni-marburg.de/de/cnms/aktuelles/termine/arbeitskreis-tuer
 keistudien
END:VEVENT
BEGIN:VTIMEZONE
TZID:Europe/Berlin
X-LIC-LOCATION:Europe/Berlin
BEGIN:STANDARD
DTSTART:20251026T020000
TZNAME:CET
TZOFFSETFROM:+0200
TZOFFSETTO:+0100
END:STANDARD
END:VTIMEZONE
END:VCALENDAR
