BEGIN:VCALENDAR
VERSION:2.0
PRODID:-//Plone.org//NONSGML plone.app.event//EN
X-WR-TIMEZONE:Europe/Berlin
BEGIN:VEVENT
SUMMARY:Aura\, Resonanz und Atmosphäre: Religionsästhetische Ansätze zu
 r Interritualität in Hatay (Antiochien)
DTSTART;TZID=Europe/Berlin:20230706T180000
DTEND;TZID=Europe/Berlin:20230706T200000
DTSTAMP:20260425T230217Z
UID:7ee157be3bce440b9aba2d08d376af2a@www.uni-marburg.de
ATTENDEE;CN="Dr. Jens Krainath, Wichita State University";ROLE=REQ-PARTICI
 PANT:Dr. Jens Krainath, Wichita State University
CREATED:20230627T133659Z
DESCRIPTION:https://www.uni-marburg.de/de/cnms/aktuelles/termine/aura-reso
 nanz-und-atmosphaere-religionsaesthetische-ansaetze-zur-interritualitaet-i
 n-hatay-antiochien\n
LAST-MODIFIED:20230627T134034Z
LOCATION:CNMS\, Hörsaal
URL:https://www.uni-marburg.de/de/cnms/aktuelles/termine/aura-resonanz-und
 -atmosphaere-religionsaesthetische-ansaetze-zur-interritualitaet-in-hatay-
 antiochien
END:VEVENT
BEGIN:VTIMEZONE
TZID:Europe/Berlin
X-LIC-LOCATION:Europe/Berlin
BEGIN:DAYLIGHT
DTSTART:20230326T030000
TZNAME:CEST
TZOFFSETFROM:+0100
TZOFFSETTO:+0200
END:DAYLIGHT
END:VTIMEZONE
END:VCALENDAR
