BEGIN:VCALENDAR
VERSION:2.0
PRODID:-//Plone.org//NONSGML plone.app.event//EN
X-WR-TIMEZONE:Europe/Berlin
BEGIN:VEVENT
SUMMARY:Besuch des Römerkastells Saalburg
DTSTART;TZID=Europe/Berlin:20221119T111500
DTEND;TZID=Europe/Berlin:20221119T171500
DTSTAMP:20260419T231917Z
UID:bbe97a4af254493493ab2201830f3024@www.uni-marburg.de
ATTENDEE;CN="Süheyla Bektas, Frederik Löffler";ROLE=REQ-PARTICIPANT:Süh
 eyla Bektas, Frederik Löffler
CREATED:20220923T111639Z
DESCRIPTION:https://www.uni-marburg.de/de/cnms/aktuelles/termine/besichtig
 ung-der-saalburg\nCNMS Welcome
LAST-MODIFIED:20221111T135334Z
LOCATION:Saalburg
URL:https://www.uni-marburg.de/de/cnms/aktuelles/termine/besichtigung-der-
 saalburg
END:VEVENT
BEGIN:VTIMEZONE
TZID:Europe/Berlin
X-LIC-LOCATION:Europe/Berlin
BEGIN:STANDARD
DTSTART:20221030T020000
TZNAME:CET
TZOFFSETFROM:+0200
TZOFFSETTO:+0100
END:STANDARD
END:VTIMEZONE
END:VCALENDAR
