BEGIN:VCALENDAR
VERSION:2.0
PRODID:-//Plone.org//NONSGML plone.app.event//EN
X-WR-TIMEZONE:Europe/Berlin
BEGIN:VEVENT
SUMMARY:Bestiarium Mesopotamicum: Animal Omens in Ancient Mesopotamia
DTSTART;TZID=Europe/Berlin:20180614T181500
DTEND;TZID=Europe/Berlin:20180614T200000
DTSTAMP:20260422T051644Z
UID:9378d0c43d784020a5200516261b6caf@www.uni-marburg.de
CREATED:20180503T191011Z
DESCRIPTION:https://www.uni-marburg.de/de/cnms/aktuelles/termine/bestiariu
 m-mesopotamicum-animal-omens-in-ancient-mesopotamia\nVortrag von Dr. Nicla
  De Zorzi\, Universität Wien
LAST-MODIFIED:20180504T092231Z
LOCATION:CNMS\, Deutschhausstraße 12\, Hörsaal 00A26
URL:https://www.uni-marburg.de/de/cnms/aktuelles/termine/bestiarium-mesopo
 tamicum-animal-omens-in-ancient-mesopotamia
END:VEVENT
BEGIN:VTIMEZONE
TZID:Europe/Berlin
X-LIC-LOCATION:Europe/Berlin
BEGIN:DAYLIGHT
DTSTART:20180325T030000
TZNAME:CEST
TZOFFSETFROM:+0100
TZOFFSETTO:+0200
END:DAYLIGHT
END:VTIMEZONE
END:VCALENDAR
