BEGIN:VCALENDAR
VERSION:2.0
PRODID:-//Plone.org//NONSGML plone.app.event//EN
X-WR-TIMEZONE:Europe/Berlin
BEGIN:VEVENT
SUMMARY:Buchvorstellung: Dangerous Gifts: Imperialism\, Security\, and Civ
 il Wars in the Levant\, 1798-1864
DTSTART;TZID=Europe/Berlin:20220502T180000
DTEND;TZID=Europe/Berlin:20220502T200000
DTSTAMP:20260424T235211Z
UID:4a566c7183d44f2f96cc5e671357dcfe@www.uni-marburg.de
ATTENDEE;CN="Ozan Ozavci, Utrecht";ROLE=REQ-PARTICIPANT:Ozan Ozavci, Utrec
 ht
CREATED:20220413T163511Z
DESCRIPTION:https://www.uni-marburg.de/de/cnms/aktuelles/termine/buchvorst
 ellung-dangerous-gifts-imperialism-security-and-civil-wars-in-the-levant-1
 798-1864\n
LAST-MODIFIED:20220413T163529Z
LOCATION:00A26\, Deutschhausstraße 12\, 35032 Marburg
URL:https://www.uni-marburg.de/de/cnms/aktuelles/termine/buchvorstellung-d
 angerous-gifts-imperialism-security-and-civil-wars-in-the-levant-1798-1864
END:VEVENT
BEGIN:VTIMEZONE
TZID:Europe/Berlin
X-LIC-LOCATION:Europe/Berlin
BEGIN:DAYLIGHT
DTSTART:20220327T030000
TZNAME:CEST
TZOFFSETFROM:+0100
TZOFFSETTO:+0200
END:DAYLIGHT
END:VTIMEZONE
END:VCALENDAR
