BEGIN:VCALENDAR
VERSION:2.0
PRODID:-//Plone.org//NONSGML plone.app.event//EN
X-WR-TIMEZONE:Europe/Berlin
BEGIN:VEVENT
SUMMARY:Buchvorstellung /Oil and the Political Economy in the Middle East/
  von Martin Beck mit anschließender Diskussion mit dem Autor
DTSTART;TZID=Europe/Berlin:20220629T181500
DTEND;TZID=Europe/Berlin:20220629T200000
DTSTAMP:20260426T053104Z
UID:33449e2469c6429c9a05d3f757883ec5@www.uni-marburg.de
ATTENDEE;CN="Prof. Martin Beck";ROLE=REQ-PARTICIPANT:Prof. Martin Beck
CREATED:20220629T151006Z
DESCRIPTION:https://www.uni-marburg.de/de/cnms/aktuelles/termine/buchvorst
 ellung-oil-and-the-political-economy-in-the-middle-east-von-martin-beck-mi
 t-anschliessender-diskussion-mit-dem-autor\n
LAST-MODIFIED:20220629T151013Z
LOCATION:Hörsaal 00A26 CNMS
URL:https://www.uni-marburg.de/de/cnms/aktuelles/termine/buchvorstellung-o
 il-and-the-political-economy-in-the-middle-east-von-martin-beck-mit-anschl
 iessender-diskussion-mit-dem-autor
END:VEVENT
BEGIN:VTIMEZONE
TZID:Europe/Berlin
X-LIC-LOCATION:Europe/Berlin
BEGIN:DAYLIGHT
DTSTART:20220327T030000
TZNAME:CEST
TZOFFSETFROM:+0100
TZOFFSETTO:+0200
END:DAYLIGHT
END:VTIMEZONE
END:VCALENDAR
