BEGIN:VCALENDAR
VERSION:2.0
PRODID:-//Plone.org//NONSGML plone.app.event//EN
X-WR-TIMEZONE:Europe/Berlin
BEGIN:VEVENT
SUMMARY:Changes and Continuities in the Uses of the Word “Crusade” sin
 ce the Middle Ages  &  New Sources on the Memory of Saladin and the Crusad
 es in Pre-Modern Islamic History
DTSTART;TZID=Europe/Berlin:20220331T170000
DTSTAMP:20260425T231009Z
UID:8124c324eb384d0e98f0d5dbf5c2c6f9@www.uni-marburg.de
ATTENDEE;CN="Dr. Benjamin Weber und Dr. Fadi Ragheb";ROLE=REQ-PARTICIPANT:
 Dr. Benjamin Weber und Dr. Fadi Ragheb
CREATED:20220201T121807Z
DESCRIPTION:https://www.uni-marburg.de/de/cnms/aktuelles/termine/changes-a
 nd-continuities-in-the-uses-of-the-word-crusade201d-since-the-middle-ages-
 new-sources-on-the-memory-of-saladin-and-the-crusades-in-pre-modern-islami
 c-history\nDr. Benjamin Weber\, Stockholm University: Changes and Continui
 ties in the Uses of the Word “Crusade” since the Middle Ages \n& \nDr.
  Fadi Ragheb\, University of Toronto: New Sources on the Memory of Saladin
  and the Crusades in Pre-Modern Islamic History
LAST-MODIFIED:20220201T121813Z
LOCATION:digital
URL:https://www.uni-marburg.de/de/cnms/aktuelles/termine/changes-and-conti
 nuities-in-the-uses-of-the-word-crusade201d-since-the-middle-ages-new-sour
 ces-on-the-memory-of-saladin-and-the-crusades-in-pre-modern-islamic-histor
 y
END:VEVENT
BEGIN:VTIMEZONE
TZID:Europe/Berlin
X-LIC-LOCATION:Europe/Berlin
BEGIN:DAYLIGHT
DTSTART:20220327T030000
TZNAME:CEST
TZOFFSETFROM:+0100
TZOFFSETTO:+0200
END:DAYLIGHT
END:VTIMEZONE
END:VCALENDAR
