BEGIN:VCALENDAR
VERSION:2.0
PRODID:-//Plone.org//NONSGML plone.app.event//EN
X-WR-TIMEZONE:Europe/Berlin
BEGIN:VEVENT
SUMMARY:Conference: Who Reads Modern Arabic Literature\, How and Why?
DTSTART;VALUE=DATE:20221005
DTEND;VALUE=DATE:20221008
DTSTAMP:20260421T164320Z
UID:04164300b18947148d78fac9492da043@www.uni-marburg.de
CREATED:20220922T105858Z
DESCRIPTION:https://www.uni-marburg.de/de/cnms/aktuelles/termine/conferenc
 e-who-reads-modern-arabic-literature-how-and-why\nInterdisciplinary Approa
 ches to Readers\, Media\, Translation and Reception in a Globalized World
LAST-MODIFIED:20221012T110443Z
LOCATION:CNMS\, 00A26
URL:https://www.uni-marburg.de/de/cnms/aktuelles/termine/conference-who-re
 ads-modern-arabic-literature-how-and-why
END:VEVENT
END:VCALENDAR
